BEGIN:VCALENDAR
VERSION:2.0
PRODID:-//Verrassende Ontmoetingen - ECPv6.15.20//NONSGML v1.0//EN
CALSCALE:GREGORIAN
METHOD:PUBLISH
X-ORIGINAL-URL:https://www.verrassendeontmoetingen.nl
X-WR-CALDESC:Evenementen voor Verrassende Ontmoetingen
REFRESH-INTERVAL;VALUE=DURATION:PT1H
X-Robots-Tag:noindex
X-PUBLISHED-TTL:PT1H
BEGIN:VTIMEZONE
TZID:UTC
BEGIN:STANDARD
TZOFFSETFROM:+0000
TZOFFSETTO:+0000
TZNAME:UTC
DTSTART:20250101T000000
END:STANDARD
END:VTIMEZONE
BEGIN:VEVENT
DTSTART;TZID=UTC:20260419T143000
DTEND;TZID=UTC:20260419T170000
DTSTAMP:20260424T025818
CREATED:20251112T213951Z
LAST-MODIFIED:20260225T205839Z
UID:3055-1776609000-1776618000@www.verrassendeontmoetingen.nl
SUMMARY:Voorjaarsconcert met Koninklijke Harmonie Deurne en Harmonie St. Michaël van Thorn
DESCRIPTION:Koninklijke Harmonie Deurne o.l.v. Martien Maas en Harmonie St. Michaël van Thorn o.l.v. Ivan Meylemans staan garant voor een middag met fantastische muziek! \n\n\n\nSt. Michaël nodigt het internationaal vermaarde MAAT Saxophone Quartet uit met een wereldpremière van componist Johan de Meij getiteld ‘Maatwerk’\, daarnaast brengen zij Carnival Ouverture van Antonin Dvořák en Finale uit Sinfonica Domestica van Richard Straus.  \n\n\n\nNa de pauze zal Koninklijke Harmonie Deurne het concert met de titel ‘Voorbij het ondenkbare’ ten gehore brengen met onder meer de compositie ‘Leonardo Dreams’ over de onmogelijk geachte uitvindingen van Leonardo da Vinci. Speciaal voor dit concert componeerde Hardy Mertens het symfonisch gedicht ‘Beyond the endless blue’ en solist Thorwald Jørgensen is uitgenodigd. Hij bespeelt de Theremin\, een elektronisch muziekinstrument dat ruim 100 jaar geleden werd uitgevonden.  
URL:https://www.verrassendeontmoetingen.nl/concertagenda/voorjaarsconcert/
LOCATION:Concertzaal Tilburg\, Louis Bouwmeesterplein\, Tilburg\, 5038 TN\, Nederland
ATTACH;FMTTYPE=image/jpeg:https://www.verrassendeontmoetingen.nl/wp-content/uploads/2025/11/Koninklijke-Harmonie-Deurne-1-scaled.jpg
END:VEVENT
BEGIN:VEVENT
DTSTART;TZID=UTC:20260517T143000
DTEND;TZID=UTC:20260517T170000
DTSTAMP:20260424T025818
CREATED:20251112T214558Z
LAST-MODIFIED:20260423T210043Z
UID:3060-1779028200-1779037200@www.verrassendeontmoetingen.nl
SUMMARY:Lenteconcert met Fanfare Aurora Heesch en Fanfare Triple F Collective
DESCRIPTION:Een middag vol fanfare muziek met Fanfare Aurora Heesch o.l.v. Robbert Vos en Fanfare Triple F Collective\, een projectorkest zorgvuldig samen gesteld door en o.l.v. Frenk Rouschop! \n\n\n\nTriple F Collective is een projectfanfare bestaande uit circa 55 professionele en ambitieuze amateurmuzikanten\, verenigd door een gedeelde artistieke drive en een sterk gevoel van betrokkenheid. Wat dit collectief bijzonder maakt\, is het gezamenlijke enthousiasme om niet alleen muzikaal te excelleren\, maar ook om bredere culturele en educatieve doelstellingen te realiseren. \n\n\n\nDe volgende werken staan deze middag op het programma. \n\n\n\nJohannesburg Festival Ouverture\, William Walton arr. Jos Dobbelstein \n\n\n\nIn 1956\, ter viering van de zeventigste verjaardag van de stichting van Johannesburg\, organiseerde de stad een festival. William Walton werd benaderd met een opdracht voor een orkestwerk voor het openingsconcert met enkele Afrikaanse thema’s. Hij verwerkte het hoofdthema uit Jean Bosco Mwenda’s Masanga. Ook werd een thema uit Ruanda Urundi opgenomen\, Nimuze. \n\n\n\nDear Cassandra\, Ludovic Neurohr \n\n\n\nDe titel\, Beste Cassandra\, is ontleend aan de Griekse mythologie. Cassandra voorspelde de komst van het Paard van Troje. In mijn stuk (een echte ‘open brief’ aan waarzeggers) probeer ik via de muziek en het compositieproces de toekomstige richting van fanfaremuziek te onderzoeken\, die deze misschien wel of niet zal nemen. \n\n\n\nFor the Love of a Princess\, James Horner\, arr. Frenk Rouschop \n\n\n\nPrachtig muzikaal rustpunt uit de film Braveheart. \n\n\n\nThe Persistence of Memory\, Klaas Coulembier \n\n\n\nKlaas Coulembier componeerde het indrukwekkende “The Persistence of Memory” gebaseerd op het wereldberoemde schilderij van Salvador Dalí. Het schilderij verwijst naar de betrekkelijkheid van tijd\, zoals wordt beschreven in de relativiteitstheorieën van Einstein.  \n\n\n\nBalkanology\, trad. Arr/Comp Willem van Merwijk \n\n\n\nEen spetterende en wervelende afsluiting die voor zich spreekt. \n\n\n\nFanfare Aurora is een bloeiende vereniging uit Heesch. Het fanfareorkest bestaat uit verschillende geledingen: het groot orkest\, con brio\, jeugdorkest en naast de malletband ook nog de hofkapel en de jeugdhofkapel. Voor dit concert staat Fanfare Aurora onder leiding van Robbert Vos. Geert Jacobs is sinds 2015 de vaste dirigent van het orkest. Dit jaar bestaat Aurora 120 jaar. Op 21 november vieren we dit met een groot concert: vrienden van Aurora live! \n\n\n\nProgramma: \n\n\n\n1. Vivat Colorum – Stijn Roels \n\n\n\nVivat Colorum is latijn voor Leve de Kleuren! Een openingswerk met een mooie opbouw\, waarin alle instrumentengroepen aanbod komen! \n\n\n\n2. Feierlicher Einzug – Richard Strauss \n\n\n\nRichard Strauss (1864-1949) was een Duitse componist (niet verwant aan de bekende Weense familie).  \n\n\n\nZijn ’Feierlicher Einzug’ componeerde Strauss in 1909 oorspronkelijk voor 15 trompetten\, 4 Hoorns\, 4 trombones\, 2 bastuba’s en pauken. Het werk werd gecomponeerd voor de Johanniter orde\, die opgericht was in Jeruzalem tijdens de eerste kruistocht. Deze christelijke militaire orde is opgericht in de Middeleeuwen met als doel om zich over arme\, ziek en gewonde pelgrims te ontfermen\, die onderweg waren naar het Heilige Land. De compositie werkt zich langzaam en majestueus naar een climax toe\, zowel in volume als in complexiteit. \n\n\n\n3. Vongole – Satoshi Yagisawa \n\n\n\nDit stuk bevat een solo voor een bijzonder instrument: de bariton saxofoon. In ons geval wordt deze solo gespeeld door Erik Weerts! De componist heeft dit speciaal voor een goede vriend geschreven\, die saxofoon speelt. \n\n\n\nHet bruisende stuk neemt ons mee in drie delen\, en die heten spumante (een mousserende wijn)\, bianco (wit) en rosso (rode wijn). \n\n\n\n4. Lords of Masmine (Jan van der Roost) \n\n\n\nDaarna volgt het concertwerk Lords of Masmine\, gecomponeerd door Jan van der Roost. Dit stuk is geschreven voor het Koninklijk Fanfare Orkest Volksopbeuring uit het Belgische Massemen. Het stuk neemt je dan ook muzikaal mee door de geschiedenis van de plaats Massemen\, of Masmine. In verschillende tempo’s en klankkleuren word je als luisteraar meegenomen in de verschillende gebeurtenissen van deze plek. Het koraal in het stuk neemt je mee naar het 18e eeuwse orgel uit de St. Martinus kerk. \n\n\n\n5. Girl Crazy (George Gershwin\, arr. Christiaan Kroon) \n\n\n\nGirl Crazy van George Gershwin en een arrangement van Christiaan Kroon. Deze Broadway klassieker zit vol energie en charme. Girl Crazy was een musical uit de jaren ’30\, en bevat een aantal iconische nummers. Zoals I got rhythm. Dit nummer weerspiegelt de stijl van Gershwin: een combinatie van klassieke muziek en jazz.
URL:https://www.verrassendeontmoetingen.nl/concertagenda/lenteconcert-met-fanfare-aurora-heesch-en-fanfare-tripple-f-collective/
LOCATION:Concertzaal Tilburg\, Louis Bouwmeesterplein\, Tilburg\, 5038 TN\, Nederland
ATTACH;FMTTYPE=image/jpeg:https://www.verrassendeontmoetingen.nl/wp-content/uploads/2026/04/Triple-F-Collective-11-04-2026.jpeg
END:VEVENT
BEGIN:VEVENT
DTSTART;TZID=UTC:20261129T143000
DTEND;TZID=UTC:20261129T170000
DTSTAMP:20260424T025818
CREATED:20251112T215315Z
LAST-MODIFIED:20251119T205358Z
UID:3062-1795962600-1795971600@www.verrassendeontmoetingen.nl
SUMMARY:Herfstconcert met Muziekvereniging Concordia Berkel-Enschot en Harmonie Koningin Wilhelmina uit Wamel
DESCRIPTION:Muziekvereniging Concordia Berkel-Enschot is een graag geziene gast in de concert serie en weet elke keer een mooie invulling te geven aan het begrip verrassend! \n\n\n\nHarmonie Koningin Wilhelmina uit Wamel is nieuw in de serie\, maar zal u niet teleurstellen.
URL:https://www.verrassendeontmoetingen.nl/concertagenda/herfstconcert-met-muziekvereniging-concordia-berkel-enschot-en-harmonie-koningin-wilhelmina-uit-wamel/
LOCATION:Concertzaal Tilburg\, Louis Bouwmeesterplein\, Tilburg\, 5038 TN\, Nederland
END:VEVENT
END:VCALENDAR